BEGIN:VCALENDAR
VERSION:2.0
PRODID:-//Squarespace Inc/Squarespace 6//v6//EN
BEGIN:VEVENT
UID:5b1ba025aa4a99b2fb9fe023@squarespace.com
DTSTAMP:20191022T100715Z
DTSTART:20191115T150000Z
DTEND:20191115T190000Z
SUMMARY:RIVERINA ALL SCHOOLS MTB CHALLENGE
GEO:-35.122351;147.310975
LOCATION:Pomingalarna Reserve\, Wiradjuri Walking Track\, Moorong\, NSW\, 2
 650\, Australia
END:VEVENT
END:VCALENDAR
