BEGIN:VCALENDAR
VERSION:2.0
PRODID:-//Squarespace Inc/Squarespace 6//v6//EN
BEGIN:VEVENT
UID:5bcf8981e2c4830745f7486f@squarespace.com
DTSTAMP:20181024T092438Z
DTSTART:20181106T230000Z
DTEND:20181218T230000Z
SUMMARY:Daylight Savings Series 2018/19
END:VEVENT
END:VCALENDAR
