BEGIN:VCALENDAR
VERSION:2.0
PRODID:-//Squarespace Inc/Squarespace 6//v6//EN
BEGIN:VEVENT
UID:5bd971551ae6cf0f5a00c15e@squarespace.com
DTSTAMP:20181031T091241Z
DTSTART:20181106T221500Z
DTEND:20181107T001500Z
SUMMARY:Daylight Savings Series- Round 1
END:VEVENT
END:VCALENDAR
