BEGIN:VCALENDAR
VERSION:2.0
PRODID:-//Squarespace Inc/Squarespace 6//v6//EN
BEGIN:VEVENT
UID:5b1fa47a0e2e72f1c2cea232@squarespace.com
DTSTAMP:20180612T104801Z
DTSTART:20180618T223000Z
DTEND:20180618T233000Z
SUMMARY:MTB Wagga Club Meeting 
END:VEVENT
END:VCALENDAR
