BEGIN:VCALENDAR
VERSION:2.0
PRODID:-//Squarespace Inc/Squarespace 6//v6//EN
BEGIN:VEVENT
UID:5b1b9b548a922ddcbe05660c@squarespace.com
DTSTAMP:20180618T100535Z
DTSTART:20180701T140000Z
DTEND:20180701T210000Z
SUMMARY:Come and try MTBO - Mountain Bike Orienteering
GEO:-35.122492;147.311061
LOCATION:Pomingalarna Reserve\, Wiradjuri Walking Track\, Moorong\, NSW\, 2
 650\, Australia
END:VEVENT
END:VCALENDAR
