BEGIN:VCALENDAR
VERSION:2.0
PRODID:-//Squarespace Inc/Squarespace 6//v6//EN
BEGIN:VEVENT
UID:5b586a93352f53639c1ec8c6@squarespace.com
DTSTAMP:20180725T122627Z
DTSTART:20180818T150000Z
DTEND:20180819T200000Z
SUMMARY:WAGGA WAGGA TRAIL MARATHON RUNNING WEEKEND
END:VEVENT
END:VCALENDAR
