BEGIN:VCALENDAR
VERSION:2.0
PRODID:-//Squarespace Inc/Squarespace 6//v6//EN
BEGIN:VEVENT
UID:5b57e515aa4a99e92971f366@squarespace.com
DTSTAMP:20180730T041810Z
DTSTART:20180831T130000Z
DTEND:20180831T210000Z
SUMMARY:ACT Schools Mountain Bike Championships
GEO:-35.319395;149.02743
LOCATION:Stromlo Forest Park\, ACT
END:VEVENT
END:VCALENDAR
