BEGIN:VCALENDAR
VERSION:2.0
PRODID:-//Squarespace Inc/Squarespace 6//v6//EN
BEGIN:VEVENT
UID:5dd67332ba56c21843681736@squarespace.com
DTSTAMP:20191127T102524Z
DTSTART:20191203T220000Z
DTEND:20191204T000000Z
SUMMARY:2019 Summer Series Round 5 and Christmas BBQ
GEO:-35.122256;147.310779
LOCATION:5 McNickle Road\, Moorong\, NSW\, 2650\, Australia
END:VEVENT
END:VCALENDAR
