BEGIN:VCALENDAR
VERSION:2.0
PRODID:-//Squarespace Inc/Squarespace 6//v6//EN
BEGIN:VEVENT
UID:5cf0575bf800500001d3125c@squarespace.com
DTSTAMP:20190624T121606Z
DTSTART:20190721T150000Z
DTEND:20190721T180000Z
SUMMARY:Wagga Wagga Winter 3hr
GEO:-35.122667;147.311071
LOCATION:5 McNickle Road\, Moorong\, NSW\, 2650\, Australia
END:VEVENT
END:VCALENDAR
