BEGIN:VCALENDAR
VERSION:2.0
PRODID:-//Squarespace Inc/Squarespace 6//v6//EN
BEGIN:VEVENT
UID:5d23150ceb83b800012ef6bb@squarespace.com
DTSTAMP:20190708T113659Z
DTSTART:20190721T170000Z
DTEND:20190721T173000Z
SUMMARY:Wagga Winter Under 12 Race
GEO:-35.121139;147.321427
LOCATION:Pomingalarna Reserve\, 5 McNickle Road\, Moorong\, NSW\, 2650\, Au
 stralia
END:VEVENT
END:VCALENDAR
