BEGIN:VCALENDAR
VERSION:2.0
PRODID:-//Squarespace Inc/Squarespace 6//v6//EN
BEGIN:VEVENT
UID:5e404ce7ced26d7c65eda9c6@squarespace.com
DTSTAMP:20200209T183038Z
DTSTART:20200303T220000Z
DTEND:20200303T230000Z
SUMMARY:2020 Autumn Series Round 1
GEO:-35.122713;147.312179
LOCATION:5 McNickle Road\, Moorong\, NSW\, 2650\, Australia
END:VEVENT
END:VCALENDAR
