BEGIN:VCALENDAR
VERSION:2.0
PRODID:-//Squarespace Inc/Squarespace 6//v6//EN
BEGIN:VEVENT
UID:5d9128394cd9ba4e70f56c3a@squarespace.com
DTSTAMP:20190930T043652Z
DTSTART:20191105T220000Z
DTEND:20191106T000000Z
SUMMARY:2019 Summer Series Round 1
GEO:-35.122917;147.311514
LOCATION:Wiradjuri Walking Track\, Moorong\, NSW\, 2650\, Australia
END:VEVENT
END:VCALENDAR
